BEGIN:VCALENDAR
VERSION:2.0
PRODID:-//Dunbar Battery - ECPv6.15.20//NONSGML v1.0//EN
CALSCALE:GREGORIAN
METHOD:PUBLISH
X-WR-CALNAME:Dunbar Battery
X-ORIGINAL-URL:https://dunbarbattery.org.uk
X-WR-CALDESC:Events for Dunbar Battery
REFRESH-INTERVAL;VALUE=DURATION:PT1H
X-Robots-Tag:noindex
X-PUBLISHED-TTL:PT1H
BEGIN:VTIMEZONE
TZID:Europe/London
BEGIN:DAYLIGHT
TZOFFSETFROM:+0000
TZOFFSETTO:+0100
TZNAME:BST
DTSTART:20230326T010000
END:DAYLIGHT
BEGIN:STANDARD
TZOFFSETFROM:+0100
TZOFFSETTO:+0000
TZNAME:GMT
DTSTART:20231029T010000
END:STANDARD
BEGIN:DAYLIGHT
TZOFFSETFROM:+0000
TZOFFSETTO:+0100
TZNAME:BST
DTSTART:20240331T010000
END:DAYLIGHT
BEGIN:STANDARD
TZOFFSETFROM:+0100
TZOFFSETTO:+0000
TZNAME:GMT
DTSTART:20241027T010000
END:STANDARD
BEGIN:DAYLIGHT
TZOFFSETFROM:+0000
TZOFFSETTO:+0100
TZNAME:BST
DTSTART:20250330T010000
END:DAYLIGHT
BEGIN:STANDARD
TZOFFSETFROM:+0100
TZOFFSETTO:+0000
TZNAME:GMT
DTSTART:20251026T010000
END:STANDARD
END:VTIMEZONE
BEGIN:VEVENT
DTSTART;TZID=Europe/London:20240803T130000
DTEND;TZID=Europe/London:20240803T203000
DTSTAMP:20260421T115259
CREATED:20240122T172805Z
LAST-MODIFIED:20250318T091416Z
UID:7117-1722690000-1722717000@dunbarbattery.org.uk
SUMMARY:Sparkling Dunbar Harbour Festival 2024
DESCRIPTION:Dunbar Harbour Trust is delighted to present the 12th annual SPARKLING FESTIVAL! \n\n\n\nDates & Times: Sat 3rd August from 1pm-8:30pm. \n\n\n\nWhat’s on? Live music\, dance performances\, craft stalls\, rowing & coracle tasters\, kids activities\, food & drink\, and the return of the popular evening Ceilidh from 7-8:30pm. \n\n\n\n\n\n\n\nA fun filled event with rock\, jazz\, folk\, pirates & mermaids! \n\n\n\nJoin the Harbour Trust for a magnificent FREE community event for all ages! \n\n\n\n\n\n\n\n\n\n\n\n\n\n\n\n\n\n\n\n\n\n\n\nFind out more at: https://www.facebook.com/dunbarharbour/
URL:https://dunbarbattery.org.uk/event/sparkling-dunbar-harbour-festival-2024/
LOCATION:Dunbar Harbour\, Victoria Harbour\, Dunbar\, East Lothian\, United Kingdom
ATTACH;FMTTYPE=image/jpeg:https://dunbarbattery.org.uk/files/2017/10/Guiding-light.jpg
END:VEVENT
END:VCALENDAR